<?xml version="1.0" encoding="UTF-8"?>
<Capabilities xmlns="http://www.opengis.net/wmts/1.0"
xmlns:ows="http://www.opengis.net/ows/1.1"
xmlns:xlink="http://www.w3.org/1999/xlink"
xmlns:xsi="http://www.w3.org/2001/XMLSchema-instance"
xmlns:gml="http://www.opengis.net/gml"
xsi:schemaLocation="http://www.opengis.net/wmts/1.0 http://schemas.opengis.net/wmts/1.0/wmtsGetCapabilities_response.xsd"
version="1.0.0">
<!-- Service Identification --> <ows:ServiceIdentification>
<ows:Title>Palanga_orto2021</ows:Title>
<ows:ServiceType>OGC WMTS</ows:ServiceType>
<ows:ServiceTypeVersion>1.0.0</ows:ServiceTypeVersion>
</ows:ServiceIdentification> <!-- Operations Metadata --> <ows:OperationsMetadata>
<ows:Operation name="GetCapabilities">
<ows:DCP>
<ows:HTTP>
<ows:Get xlink:href="https://gis.palanga.lt/arcgis/rest/services/Palanga_orto2021/MapServer/WMTS/1.0.0/WMTSCapabilities.xml">
<ows:Constraint name="GetEncoding">
<ows:AllowedValues>
<ows:Value>RESTful</ows:Value>
</ows:AllowedValues>
</ows:Constraint>
</ows:Get>
<!-- add KVP binding in 10.1 -->
<ows:Get xlink:href="https://gis.palanga.lt/arcgis/rest/services/Palanga_orto2021/MapServer/WMTS?">
<ows:Constraint name="GetEncoding">
<ows:AllowedValues>
<ows:Value>KVP</ows:Value>
</ows:AllowedValues>
</ows:Constraint>
</ows:Get>
</ows:HTTP>
</ows:DCP>
</ows:Operation>
<ows:Operation name="GetTile">
<ows:DCP>
<ows:HTTP>
<ows:Get xlink:href="https://gis.palanga.lt/arcgis/rest/services/Palanga_orto2021/MapServer/WMTS/tile/1.0.0/">
<ows:Constraint name="GetEncoding">
<ows:AllowedValues>
<ows:Value>RESTful</ows:Value>
</ows:AllowedValues>
</ows:Constraint>
</ows:Get>
<ows:Get xlink:href="https://gis.palanga.lt/arcgis/rest/services/Palanga_orto2021/MapServer/WMTS?">
<ows:Constraint name="GetEncoding">
<ows:AllowedValues>
<ows:Value>KVP</ows:Value>
</ows:AllowedValues>
</ows:Constraint>
</ows:Get>
</ows:HTTP>
</ows:DCP>
</ows:Operation>
</ows:OperationsMetadata> <Contents>
<!--Layer--> <Layer>
<ows:Title>Palanga_orto2021</ows:Title> <ows:Identifier>Palanga_orto2021</ows:Identifier>
<ows:BoundingBox crs="urn:ogc:def:crs:EPSG::3346">
<ows:LowerCorner>5970000.00289548 305000.0023442131</ows:LowerCorner>
<ows:UpperCorner>6260000.006202778 684999.9924223176</ows:UpperCorner>
</ows:BoundingBox> <ows:WGS84BoundingBox crs="urn:ogc:def:crs:OGC:2:84">
<ows:LowerCorner>20.837959136904114 53.8311452065151</ows:LowerCorner>
<ows:UpperCorner>27.000142739069243 56.47320234013322</ows:UpperCorner>
</ows:WGS84BoundingBox>
<Style isDefault="true">
<ows:Title>Default Style</ows:Title>
<ows:Identifier>default</ows:Identifier>
</Style>
<Format>image/jpgpng</Format>
<TileMatrixSetLink>
<TileMatrixSet>default028mm</TileMatrixSet>
</TileMatrixSetLink>
<ResourceURL format="image/jpgpng" resourceType="tile" template="https://gis.palanga.lt/arcgis/rest/services/Palanga_orto2021/MapServer/WMTS/tile/1.0.0/Palanga_orto2021/{Style}/{TileMatrixSet}/{TileMatrix}/{TileRow}/{TileCol}" />
</Layer> <!--TileMatrixSet-->
<TileMatrixSet>
<ows:Title>TileMatrix using 0.28mm</ows:Title>
<ows:Abstract>The tile matrix set that has scale values calculated based on the dpi defined by OGC specification (dpi assumes 0.28mm as the physical distance of a pixel).</ows:Abstract> <ows:Identifier>default028mm</ows:Identifier>
<ows:SupportedCRS>urn:ogc:def:crs:EPSG::3346</ows:SupportedCRS>
<TileMatrix>
<ows:Identifier>0</ows:Identifier>
<ScaleDenominator>7740967.862887134</ScaleDenominator>
<TopLeftCorner>6609872.576 -255482.0</TopLeftCorner> <TileWidth>512</TileWidth> <TileHeight>512</TileHeight>
<MatrixWidth>1</MatrixWidth> <MatrixHeight>1</MatrixHeight>
</TileMatrix>
<TileMatrix>
<ows:Identifier>1</ows:Identifier>
<ScaleDenominator>3870483.931443567</ScaleDenominator>
<TopLeftCorner>6609872.576 -255482.0</TopLeftCorner> <TileWidth>512</TileWidth> <TileHeight>512</TileHeight>
<MatrixWidth>2</MatrixWidth> <MatrixHeight>2</MatrixHeight>
</TileMatrix>
<TileMatrix>
<ows:Identifier>2</ows:Identifier>
<ScaleDenominator>1935241.9657217835</ScaleDenominator>
<TopLeftCorner>6609872.576 -255482.0</TopLeftCorner> <TileWidth>512</TileWidth> <TileHeight>512</TileHeight>
<MatrixWidth>4</MatrixWidth> <MatrixHeight>3</MatrixHeight>
</TileMatrix>
<TileMatrix>
<ows:Identifier>3</ows:Identifier>
<ScaleDenominator>967620.9828608917</ScaleDenominator>
<TopLeftCorner>6609872.576 -255482.0</TopLeftCorner> <TileWidth>512</TileWidth> <TileHeight>512</TileHeight>
<MatrixWidth>7</MatrixWidth> <MatrixHeight>5</MatrixHeight>
</TileMatrix>
<TileMatrix>
<ows:Identifier>4</ows:Identifier>
<ScaleDenominator>483810.49143044587</ScaleDenominator>
<TopLeftCorner>6609872.576 -255482.0</TopLeftCorner> <TileWidth>512</TileWidth> <TileHeight>512</TileHeight>
<MatrixWidth>14</MatrixWidth> <MatrixHeight>10</MatrixHeight>
</TileMatrix>
<TileMatrix>
<ows:Identifier>5</ows:Identifier>
<ScaleDenominator>241905.24571522293</ScaleDenominator>
<TopLeftCorner>6609872.576 -255482.0</TopLeftCorner> <TileWidth>512</TileWidth> <TileHeight>512</TileHeight>
<MatrixWidth>28</MatrixWidth> <MatrixHeight>19</MatrixHeight>
</TileMatrix>
<TileMatrix>
<ows:Identifier>6</ows:Identifier>
<ScaleDenominator>120952.62285761147</ScaleDenominator>
<TopLeftCorner>6609872.576 -255482.0</TopLeftCorner> <TileWidth>512</TileWidth> <TileHeight>512</TileHeight>
<MatrixWidth>55</MatrixWidth> <MatrixHeight>37</MatrixHeight>
</TileMatrix>
<TileMatrix>
<ows:Identifier>7</ows:Identifier>
<ScaleDenominator>60476.31142880573</ScaleDenominator>
<TopLeftCorner>6609872.576 -255482.0</TopLeftCorner> <TileWidth>512</TileWidth> <TileHeight>512</TileHeight>
<MatrixWidth>109</MatrixWidth> <MatrixHeight>74</MatrixHeight>
</TileMatrix>
<TileMatrix>
<ows:Identifier>8</ows:Identifier>
<ScaleDenominator>30238.155714402867</ScaleDenominator>
<TopLeftCorner>6609872.576 -255482.0</TopLeftCorner> <TileWidth>512</TileWidth> <TileHeight>512</TileHeight>
<MatrixWidth>217</MatrixWidth> <MatrixHeight>148</MatrixHeight>
</TileMatrix>
<TileMatrix>
<ows:Identifier>9</ows:Identifier>
<ScaleDenominator>15119.077857201433</ScaleDenominator>
<TopLeftCorner>6609872.576 -255482.0</TopLeftCorner> <TileWidth>512</TileWidth> <TileHeight>512</TileHeight>
<MatrixWidth>434</MatrixWidth> <MatrixHeight>296</MatrixHeight>
</TileMatrix>
<TileMatrix>
<ows:Identifier>10</ows:Identifier>
<ScaleDenominator>7559.538928600717</ScaleDenominator>
<TopLeftCorner>6609872.576 -255482.0</TopLeftCorner> <TileWidth>512</TileWidth> <TileHeight>512</TileHeight>
<MatrixWidth>868</MatrixWidth> <MatrixHeight>591</MatrixHeight>
</TileMatrix>
<TileMatrix>
<ows:Identifier>11</ows:Identifier>
<ScaleDenominator>3779.7694643003583</ScaleDenominator>
<TopLeftCorner>6609872.576 -255482.0</TopLeftCorner> <TileWidth>512</TileWidth> <TileHeight>512</TileHeight>
<MatrixWidth>1736</MatrixWidth> <MatrixHeight>1181</MatrixHeight>
</TileMatrix>
<TileMatrix>
<ows:Identifier>12</ows:Identifier>
<ScaleDenominator>1889.8847321501792</ScaleDenominator>
<TopLeftCorner>6609872.576 -255482.0</TopLeftCorner> <TileWidth>512</TileWidth> <TileHeight>512</TileHeight>
<MatrixWidth>3472</MatrixWidth> <MatrixHeight>2362</MatrixHeight>
</TileMatrix>
<TileMatrix>
<ows:Identifier>13</ows:Identifier>
<ScaleDenominator>944.9423660750896</ScaleDenominator>
<TopLeftCorner>6609872.576 -255482.0</TopLeftCorner> <TileWidth>512</TileWidth> <TileHeight>512</TileHeight>
<MatrixWidth>6943</MatrixWidth> <MatrixHeight>4724</MatrixHeight>
</TileMatrix>
<TileMatrix>
<ows:Identifier>14</ows:Identifier>
<ScaleDenominator>472.4711830375448</ScaleDenominator>
<TopLeftCorner>6609872.576 -255482.0</TopLeftCorner> <TileWidth>512</TileWidth> <TileHeight>512</TileHeight>
<MatrixWidth>13886</MatrixWidth> <MatrixHeight>9447</MatrixHeight>
</TileMatrix>
<TileMatrix>
<ows:Identifier>15</ows:Identifier>
<ScaleDenominator>236.2355915187724</ScaleDenominator>
<TopLeftCorner>6609872.576 -255482.0</TopLeftCorner> <TileWidth>512</TileWidth> <TileHeight>512</TileHeight>
<MatrixWidth>27771</MatrixWidth> <MatrixHeight>18894</MatrixHeight>
</TileMatrix>
<TileMatrix>
<ows:Identifier>16</ows:Identifier>
<ScaleDenominator>118.1177957593862</ScaleDenominator>
<TopLeftCorner>6609872.576 -255482.0</TopLeftCorner> <TileWidth>512</TileWidth> <TileHeight>512</TileHeight>
<MatrixWidth>55541</MatrixWidth> <MatrixHeight>37788</MatrixHeight>
</TileMatrix>
<TileMatrix>
<ows:Identifier>17</ows:Identifier>
<ScaleDenominator>59.0588978796931</ScaleDenominator>
<TopLeftCorner>6609872.576 -255482.0</TopLeftCorner> <TileWidth>512</TileWidth> <TileHeight>512</TileHeight>
<MatrixWidth>111081</MatrixWidth> <MatrixHeight>75576</MatrixHeight>
</TileMatrix>
</TileMatrixSet>
</Contents>
<ServiceMetadataURL xlink:href="https://gis.palanga.lt/arcgis/rest/services/Palanga_orto2021/MapServer/WMTS/1.0.0/WMTSCapabilities.xml" /> </Capabilities>
